Package: maPredictDSC Version: 1.30.0 Command: C:\cygwin\bin\curl.exe -O http://155.52.207.165/BBS/3.13/bioc/src/contrib/maPredictDSC_1.30.0.tar.gz && rm -rf maPredictDSC.buildbin-libdir && mkdir maPredictDSC.buildbin-libdir && C:\Users\biocbuild\bbs-3.13-bioc\R\bin\R.exe CMD INSTALL --merge-multiarch --build --library=maPredictDSC.buildbin-libdir maPredictDSC_1.30.0.tar.gz && C:\Users\biocbuild\bbs-3.13-bioc\R\bin\R.exe CMD INSTALL maPredictDSC_1.30.0.zip && rm maPredictDSC_1.30.0.tar.gz maPredictDSC_1.30.0.zip StartedAt: 2021-10-14 09:57:08 -0400 (Thu, 14 Oct 2021) EndedAt: 2021-10-14 09:58:03 -0400 (Thu, 14 Oct 2021) EllapsedTime: 55.0 seconds RetCode: 0 Status: OK