Package: lpNet Version: 2.24.0 Command: rm -rf lpNet.buildbin-libdir && mkdir lpNet.buildbin-libdir && C:\Users\biocbuild\bbs-3.13-bioc\R\bin\R.exe CMD INSTALL --merge-multiarch --build --library=lpNet.buildbin-libdir lpNet_2.24.0.tar.gz StartedAt: 2021-10-15 10:07:14 -0400 (Fri, 15 Oct 2021) EndedAt: 2021-10-15 10:08:43 -0400 (Fri, 15 Oct 2021) EllapsedTime: 89.0 seconds RetCode: 0 Status: OK PackageFile: lpNet_2.24.0.zip PackageFileSize: 377.8 KiB