Package: loci2path Version: 1.12.0 Command: /Library/Frameworks/R.framework/Versions/Current/Resources/bin/R CMD INSTALL loci2path StartedAt: 2021-10-14 08:55:38 -0400 (Thu, 14 Oct 2021) EndedAt: 2021-10-14 08:56:31 -0400 (Thu, 14 Oct 2021) EllapsedTime: 53.2 seconds RetCode: 0 Status: OK