Package: loci2path Version: 1.12.0 Command: rm -rf loci2path.buildbin-libdir && mkdir loci2path.buildbin-libdir && /Users/biocbuild/BBS/utils/build-universal.sh loci2path_1.12.0.tar.gz /Library/Frameworks/R.framework/Versions/Current/Resources/bin/R loci2path.buildbin-libdir StartedAt: 2021-10-15 02:54:44 -0400 (Fri, 15 Oct 2021) EndedAt: 2021-10-15 02:55:53 -0400 (Fri, 15 Oct 2021) EllapsedTime: 69.3 seconds RetCode: 0 Status: OK PackageFile: loci2path_1.12.0.tgz PackageFileSize: 776.6 KiB