Package: lmdme Version: 1.34.0 Command: /home/biocbuild/bbs-3.13-bioc/R/bin/R CMD check --install=check:lmdme.install-out.txt --library=/home/biocbuild/bbs-3.13-bioc/R/library --no-vignettes --timings lmdme_1.34.0.tar.gz StartedAt: 2021-10-14 10:23:31 -0400 (Thu, 14 Oct 2021) EndedAt: 2021-10-14 10:24:13 -0400 (Thu, 14 Oct 2021) EllapsedTime: 42.5 seconds RetCode: 0 Status: WARNINGS CheckDir: lmdme.Rcheck Warnings: 1