Package: levi Version: 1.10.0 Command: C:\cygwin\bin\curl.exe -O http://155.52.207.165/BBS/3.13/bioc/src/contrib/levi_1.10.0.tar.gz && rm -rf levi.buildbin-libdir && mkdir levi.buildbin-libdir && C:\Users\biocbuild\bbs-3.13-bioc\R\bin\R.exe CMD INSTALL --merge-multiarch --build --library=levi.buildbin-libdir levi_1.10.0.tar.gz && C:\Users\biocbuild\bbs-3.13-bioc\R\bin\R.exe CMD INSTALL levi_1.10.0.zip && rm levi_1.10.0.tar.gz levi_1.10.0.zip StartedAt: 2021-10-14 08:36:23 -0400 (Thu, 14 Oct 2021) EndedAt: 2021-10-14 08:37:24 -0400 (Thu, 14 Oct 2021) EllapsedTime: 61.2 seconds RetCode: 0 Status: OK