Package: iterativeBMA Version: 1.50.0 Command: chmod a+r iterativeBMA -R && C:\Users\biocbuild\bbs-3.13-bioc\R\bin\R.exe CMD build --keep-empty-dirs --no-resave-data iterativeBMA StartedAt: 2021-10-14 15:10:17 -0400 (Thu, 14 Oct 2021) EndedAt: 2021-10-14 15:10:53 -0400 (Thu, 14 Oct 2021) EllapsedTime: 36.0 seconds RetCode: 0 Status: OK PackageFile: iterativeBMA_1.50.0.tar.gz PackageFileSize: 188 KiB