Package: icetea Version: 1.10.0 Command: C:\cygwin\bin\curl.exe -O http://155.52.207.165/BBS/3.13/bioc/src/contrib/icetea_1.10.0.tar.gz && rm -rf icetea.buildbin-libdir && mkdir icetea.buildbin-libdir && C:\Users\biocbuild\bbs-3.13-bioc\R\bin\R.exe CMD INSTALL --merge-multiarch --build --library=icetea.buildbin-libdir icetea_1.10.0.tar.gz && C:\Users\biocbuild\bbs-3.13-bioc\R\bin\R.exe CMD INSTALL icetea_1.10.0.zip && rm icetea_1.10.0.tar.gz icetea_1.10.0.zip StartedAt: 2021-10-14 10:39:22 -0400 (Thu, 14 Oct 2021) EndedAt: 2021-10-14 10:40:50 -0400 (Thu, 14 Oct 2021) EllapsedTime: 87.9 seconds RetCode: 0 Status: OK