Package: hyperdraw Version: 1.44.0 Command: chmod a+r hyperdraw -R && C:\Users\biocbuild\bbs-3.13-bioc\R\bin\R.exe CMD build --keep-empty-dirs --no-resave-data hyperdraw StartedAt: 2021-10-14 14:58:09 -0400 (Thu, 14 Oct 2021) EndedAt: 2021-10-14 14:58:58 -0400 (Thu, 14 Oct 2021) EllapsedTime: 49.5 seconds RetCode: 0 Status: OK PackageFile: hyperdraw_1.44.0.tar.gz PackageFileSize: 152.3 KiB