Package: gwascat Version: 2.24.0 Command: rm -rf gwascat.buildbin-libdir && mkdir gwascat.buildbin-libdir && /Users/biocbuild/BBS/utils/build-universal.sh gwascat_2.24.0.tar.gz /Library/Frameworks/R.framework/Versions/Current/Resources/bin/R gwascat.buildbin-libdir StartedAt: 2021-10-15 02:41:07 -0400 (Fri, 15 Oct 2021) EndedAt: 2021-10-15 02:42:13 -0400 (Fri, 15 Oct 2021) EllapsedTime: 66.0 seconds RetCode: 0 Status: OK PackageFile: gwascat_2.24.0.tgz PackageFileSize: 34.17 MiB