Package: globaltest Version: 5.46.0 Command: rm -rf globaltest.buildbin-libdir && mkdir globaltest.buildbin-libdir && /Users/biocbuild/BBS/utils/build-universal.sh globaltest_5.46.0.tar.gz /Library/Frameworks/R.framework/Versions/Current/Resources/bin/R globaltest.buildbin-libdir StartedAt: 2021-10-15 02:36:30 -0400 (Fri, 15 Oct 2021) EndedAt: 2021-10-15 02:37:35 -0400 (Fri, 15 Oct 2021) EllapsedTime: 64.7 seconds RetCode: 0 Status: OK PackageFile: globaltest_5.46.0.tgz PackageFileSize: 1.12 MiB