Package: glmSparseNet Version: 1.10.0 Command: /Library/Frameworks/R.framework/Versions/Current/Resources/bin/R CMD build --keep-empty-dirs --no-resave-data glmSparseNet StartedAt: 2021-10-14 12:20:02 -0400 (Thu, 14 Oct 2021) EndedAt: 2021-10-14 12:25:31 -0400 (Thu, 14 Oct 2021) EllapsedTime: 328.7 seconds RetCode: 0 Status: OK PackageFile: glmSparseNet_1.10.0.tar.gz PackageFileSize: 2.542 MiB