Package: glmSparseNet Version: 1.10.0 Command: rm -rf glmSparseNet.buildbin-libdir && mkdir glmSparseNet.buildbin-libdir && /Users/biocbuild/BBS/utils/build-universal.sh glmSparseNet_1.10.0.tar.gz /Library/Frameworks/R.framework/Versions/Current/Resources/bin/R glmSparseNet.buildbin-libdir StartedAt: 2021-10-15 02:36:14 -0400 (Fri, 15 Oct 2021) EndedAt: 2021-10-15 02:37:19 -0400 (Fri, 15 Oct 2021) EllapsedTime: 64.4 seconds RetCode: 0 Status: OK PackageFile: glmSparseNet_1.10.0.tgz PackageFileSize: 2.79 MiB