Package: ggtreeExtra Version: 1.2.3 Command: chmod a+r ggtreeExtra -R && C:\Users\biocbuild\bbs-3.13-bioc\R\bin\R.exe CMD build --keep-empty-dirs --no-resave-data ggtreeExtra StartedAt: 2021-10-14 14:31:43 -0400 (Thu, 14 Oct 2021) EndedAt: 2021-10-14 14:32:32 -0400 (Thu, 14 Oct 2021) EllapsedTime: 48.7 seconds RetCode: 0 Status: OK PackageFile: ggtreeExtra_1.2.3.tar.gz PackageFileSize: 198.8 KiB