Package: ggtreeExtra Version: 1.2.3 Command: /home/biocbuild/bbs-3.13-bioc/R/bin/R CMD build --keep-empty-dirs --no-resave-data ggtreeExtra StartedAt: 2021-10-14 07:22:01 -0400 (Thu, 14 Oct 2021) EndedAt: 2021-10-14 07:22:23 -0400 (Thu, 14 Oct 2021) EllapsedTime: 22.1 seconds RetCode: 0 Status: OK PackageFile: ggtreeExtra_1.2.3.tar.gz PackageFileSize: 519.7 KiB