Package: genphen Version: 1.20.0 Command: C:\cygwin\bin\curl.exe -O http://155.52.207.165/BBS/3.13/bioc/src/contrib/genphen_1.20.0.tar.gz && rm -rf genphen.buildbin-libdir && mkdir genphen.buildbin-libdir && C:\Users\biocbuild\bbs-3.13-bioc\R\bin\R.exe CMD INSTALL --merge-multiarch --build --library=genphen.buildbin-libdir genphen_1.20.0.tar.gz && C:\Users\biocbuild\bbs-3.13-bioc\R\bin\R.exe CMD INSTALL genphen_1.20.0.zip && rm genphen_1.20.0.tar.gz genphen_1.20.0.zip StartedAt: 2021-10-14 08:26:02 -0400 (Thu, 14 Oct 2021) EndedAt: 2021-10-14 08:27:22 -0400 (Thu, 14 Oct 2021) EllapsedTime: 80.1 seconds RetCode: 0 Status: OK