Package: genphen Version: 1.20.0 Command: /Library/Frameworks/R.framework/Versions/Current/Resources/bin/R CMD INSTALL genphen StartedAt: 2021-10-14 08:54:19 -0400 (Thu, 14 Oct 2021) EndedAt: 2021-10-14 08:55:09 -0400 (Thu, 14 Oct 2021) EllapsedTime: 50.1 seconds RetCode: 0 Status: OK