Package: genphen Version: 1.20.0 Command: /Library/Frameworks/R.framework/Versions/Current/Resources/bin/R CMD build --keep-empty-dirs --no-resave-data genphen StartedAt: 2021-10-14 12:17:16 -0400 (Thu, 14 Oct 2021) EndedAt: 2021-10-14 12:18:33 -0400 (Thu, 14 Oct 2021) EllapsedTime: 77.3 seconds RetCode: 1 Status: ERROR PackageFile: None PackageFileSize: NA