Package: geneXtendeR Version: 1.18.0 Command: /home/biocbuild/bbs-3.13-bioc/R/bin/R CMD build --keep-empty-dirs --no-resave-data geneXtendeR StartedAt: 2021-10-14 07:20:09 -0400 (Thu, 14 Oct 2021) EndedAt: 2021-10-14 07:20:12 -0400 (Thu, 14 Oct 2021) EllapsedTime: 3.0 seconds RetCode: 0 Status: OK PackageFile: geneXtendeR_1.18.0.tar.gz PackageFileSize: 11.74 MiB