Package: funtooNorm Version: 1.16.0 Command: /Library/Frameworks/R.framework/Versions/Current/Resources/bin/R CMD build --keep-empty-dirs --no-resave-data funtooNorm StartedAt: 2021-10-14 12:09:43 -0400 (Thu, 14 Oct 2021) EndedAt: 2021-10-14 12:11:37 -0400 (Thu, 14 Oct 2021) EllapsedTime: 114.9 seconds RetCode: 0 Status: OK PackageFile: funtooNorm_1.16.0.tar.gz PackageFileSize: 3.37 MiB