Package: flowPloidy Version: 1.18.0 Command: /home/biocbuild/bbs-3.13-bioc/R/bin/R CMD INSTALL flowPloidy StartedAt: 2021-10-14 06:19:57 -0400 (Thu, 14 Oct 2021) EndedAt: 2021-10-14 06:20:07 -0400 (Thu, 14 Oct 2021) EllapsedTime: 9.8 seconds RetCode: 0 Status: OK