Package: flowMap Version: 1.30.0 Command: /home/biocbuild/bbs-3.13-bioc/R/bin/R CMD build --keep-empty-dirs --no-resave-data flowMap StartedAt: 2021-10-14 07:16:52 -0400 (Thu, 14 Oct 2021) EndedAt: 2021-10-14 07:17:37 -0400 (Thu, 14 Oct 2021) EllapsedTime: 45.8 seconds RetCode: 0 Status: OK PackageFile: flowMap_1.30.0.tar.gz PackageFileSize: 866.9 KiB