Package: flowGraph Version: 1.0.0 Command: /Library/Frameworks/R.framework/Versions/Current/Resources/bin/R CMD build --keep-empty-dirs --no-resave-data flowGraph StartedAt: 2021-10-14 12:06:24 -0400 (Thu, 14 Oct 2021) EndedAt: 2021-10-14 12:07:42 -0400 (Thu, 14 Oct 2021) EllapsedTime: 78.9 seconds RetCode: 0 Status: OK PackageFile: flowGraph_1.0.0.tar.gz PackageFileSize: 1.836 MiB