Package: eisaR Version: 1.4.0 Command: rm -rf eisaR.buildbin-libdir && mkdir eisaR.buildbin-libdir && /Users/biocbuild/BBS/utils/build-universal.sh eisaR_1.4.0.tar.gz /Library/Frameworks/R.framework/Versions/Current/Resources/bin/R eisaR.buildbin-libdir StartedAt: 2021-10-15 02:17:50 -0400 (Fri, 15 Oct 2021) EndedAt: 2021-10-15 02:18:56 -0400 (Fri, 15 Oct 2021) EllapsedTime: 66.0 seconds RetCode: 0 Status: OK PackageFile: eisaR_1.4.0.tgz PackageFileSize: 1.654 MiB