Package: eisa Version: 1.44.0 Command: /Library/Frameworks/R.framework/Versions/Current/Resources/bin/R CMD build --keep-empty-dirs --no-resave-data eisa StartedAt: 2021-10-14 11:52:07 -0400 (Thu, 14 Oct 2021) EndedAt: 2021-10-14 11:53:04 -0400 (Thu, 14 Oct 2021) EllapsedTime: 57.4 seconds RetCode: 0 Status: OK PackageFile: eisa_1.44.0.tar.gz PackageFileSize: 1.373 MiB