Package: eisa Version: 1.44.0 Command: rm -rf eisa.buildbin-libdir && mkdir eisa.buildbin-libdir && /Users/biocbuild/BBS/utils/build-universal.sh eisa_1.44.0.tar.gz /Library/Frameworks/R.framework/Versions/Current/Resources/bin/R eisa.buildbin-libdir StartedAt: 2021-10-15 02:17:45 -0400 (Fri, 15 Oct 2021) EndedAt: 2021-10-15 02:18:51 -0400 (Fri, 15 Oct 2021) EllapsedTime: 66.0 seconds RetCode: 0 Status: OK PackageFile: eisa_1.44.0.tgz PackageFileSize: 1.333 MiB