Package: ecolitk Version: 1.64.0 Command: chmod a+r ecolitk -R && C:\Users\biocbuild\bbs-3.13-bioc\R\bin\R.exe CMD build --keep-empty-dirs --no-resave-data ecolitk StartedAt: 2021-10-14 13:38:13 -0400 (Thu, 14 Oct 2021) EndedAt: 2021-10-14 13:38:46 -0400 (Thu, 14 Oct 2021) EllapsedTime: 33.4 seconds RetCode: 0 Status: OK PackageFile: ecolitk_1.64.0.tar.gz PackageFileSize: 1.717 MiB