Package: divergence Version: 1.8.0 Command: C:\cygwin\bin\curl.exe -O http://155.52.207.165/BBS/3.13/bioc/src/contrib/divergence_1.8.0.tar.gz && rm -rf divergence.buildbin-libdir && mkdir divergence.buildbin-libdir && C:\Users\biocbuild\bbs-3.13-bioc\R\bin\R.exe CMD INSTALL --merge-multiarch --build --library=divergence.buildbin-libdir divergence_1.8.0.tar.gz && C:\Users\biocbuild\bbs-3.13-bioc\R\bin\R.exe CMD INSTALL divergence_1.8.0.zip && rm divergence_1.8.0.tar.gz divergence_1.8.0.zip StartedAt: 2021-10-14 09:03:46 -0400 (Thu, 14 Oct 2021) EndedAt: 2021-10-14 09:05:01 -0400 (Thu, 14 Oct 2021) EllapsedTime: 75.2 seconds RetCode: 0 Status: OK