Package: divergence Version: 1.8.0 Command: chmod a+r divergence -R && C:\Users\biocbuild\bbs-3.13-bioc\R\bin\R.exe CMD build --keep-empty-dirs --no-resave-data divergence StartedAt: 2021-10-14 13:30:07 -0400 (Thu, 14 Oct 2021) EndedAt: 2021-10-14 13:31:00 -0400 (Thu, 14 Oct 2021) EllapsedTime: 52.8 seconds RetCode: 0 Status: OK PackageFile: divergence_1.8.0.tar.gz PackageFileSize: 2.076 MiB