Package: divergence Version: 1.8.0 Command: /home/biocbuild/bbs-3.13-bioc/R/bin/R CMD build --keep-empty-dirs --no-resave-data divergence StartedAt: 2021-10-14 07:08:59 -0400 (Thu, 14 Oct 2021) EndedAt: 2021-10-14 07:09:44 -0400 (Thu, 14 Oct 2021) EllapsedTime: 45.3 seconds RetCode: 0 Status: OK PackageFile: divergence_1.8.0.tar.gz PackageFileSize: 2.076 MiB