Package: distinct Version: 1.4.1 Command: C:\Users\biocbuild\bbs-3.13-bioc\R\bin\R.exe CMD check --force-multiarch --install=check:distinct.install-out.txt --library=C:\Users\biocbuild\bbs-3.13-bioc\R\library --no-vignettes --timings distinct_1.4.1.tar.gz StartedAt: 2021-10-14 22:21:52 -0400 (Thu, 14 Oct 2021) EndedAt: 2021-10-14 22:32:59 -0400 (Thu, 14 Oct 2021) EllapsedTime: 667.9 seconds RetCode: 0 Status: OK CheckDir: distinct.Rcheck Warnings: 0