Package: destiny Version: 3.6.0 Command: C:\cygwin\bin\curl.exe -O http://155.52.207.165/BBS/3.13/bioc/src/contrib/destiny_3.6.0.tar.gz && rm -rf destiny.buildbin-libdir && mkdir destiny.buildbin-libdir && C:\Users\biocbuild\bbs-3.13-bioc\R\bin\R.exe CMD INSTALL --merge-multiarch --build --library=destiny.buildbin-libdir destiny_3.6.0.tar.gz && C:\Users\biocbuild\bbs-3.13-bioc\R\bin\R.exe CMD INSTALL destiny_3.6.0.zip && rm destiny_3.6.0.tar.gz destiny_3.6.0.zip StartedAt: 2021-10-14 09:50:42 -0400 (Thu, 14 Oct 2021) EndedAt: 2021-10-14 09:53:30 -0400 (Thu, 14 Oct 2021) EllapsedTime: 167.8 seconds RetCode: 0 Status: OK