Package: destiny Version: 3.6.0 Command: chmod a+r destiny -R && C:\Users\biocbuild\bbs-3.13-bioc\R\bin\R.exe CMD build --keep-empty-dirs --no-resave-data destiny StartedAt: 2021-10-14 13:25:21 -0400 (Thu, 14 Oct 2021) EndedAt: 2021-10-14 13:27:48 -0400 (Thu, 14 Oct 2021) EllapsedTime: 147.3 seconds RetCode: 0 Status: OK PackageFile: destiny_3.6.0.tar.gz PackageFileSize: 8.645 MiB