Package: ddCt Version: 1.48.0 Command: /home/biocbuild/bbs-3.13-bioc/R/bin/R CMD build --keep-empty-dirs --no-resave-data ddCt StartedAt: 2021-10-14 07:05:09 -0400 (Thu, 14 Oct 2021) EndedAt: 2021-10-14 07:05:20 -0400 (Thu, 14 Oct 2021) EllapsedTime: 11.8 seconds RetCode: 0 Status: OK PackageFile: ddCt_1.48.0.tar.gz PackageFileSize: 930.3 KiB