Package: dcanr Version: 1.8.0 Command: chmod a+r dcanr -R && C:\Users\biocbuild\bbs-3.13-bioc\R\bin\R.exe CMD build --keep-empty-dirs --no-resave-data dcanr StartedAt: 2021-10-14 13:15:10 -0400 (Thu, 14 Oct 2021) EndedAt: 2021-10-14 13:16:52 -0400 (Thu, 14 Oct 2021) EllapsedTime: 102.1 seconds RetCode: 0 Status: OK PackageFile: dcanr_1.8.0.tar.gz PackageFileSize: 1.185 MiB