Package: dcanr Version: 1.8.0 Command: /home/biocbuild/bbs-3.13-bioc/R/bin/R CMD build --keep-empty-dirs --no-resave-data dcanr StartedAt: 2021-10-14 07:05:07 -0400 (Thu, 14 Oct 2021) EndedAt: 2021-10-14 07:05:50 -0400 (Thu, 14 Oct 2021) EllapsedTime: 43.2 seconds RetCode: 0 Status: OK PackageFile: dcanr_1.8.0.tar.gz PackageFileSize: 1.641 MiB