Package: cytolib Version: 2.4.0 Command: /Library/Frameworks/R.framework/Versions/Current/Resources/bin/R CMD check --install=check:cytolib.install-out.txt --library=/Library/Frameworks/R.framework/Versions/Current/Resources/library --no-vignettes --timings cytolib_2.4.0.tar.gz StartedAt: 2021-10-14 18:01:32 -0400 (Thu, 14 Oct 2021) EndedAt: 2021-10-14 18:01:59 -0400 (Thu, 14 Oct 2021) EllapsedTime: 27.3 seconds RetCode: 0 Status: OK CheckDir: cytolib.Rcheck Warnings: 0