Package: cytolib Version: 2.4.0 Command: rm -rf cytolib.buildbin-libdir && mkdir cytolib.buildbin-libdir && /Users/biocbuild/BBS/utils/build-universal.sh cytolib_2.4.0.tar.gz /Library/Frameworks/R.framework/Versions/Current/Resources/bin/R cytolib.buildbin-libdir StartedAt: 2021-10-15 02:06:46 -0400 (Fri, 15 Oct 2021) EndedAt: 2021-10-15 02:09:50 -0400 (Fri, 15 Oct 2021) EllapsedTime: 184.0 seconds RetCode: 0 Status: OK PackageFile: cytolib_2.4.0.tgz PackageFileSize: 9.672 MiB