Package: cycle Version: 1.46.0 Command: rm -rf cycle.buildbin-libdir && mkdir cycle.buildbin-libdir && C:\Users\biocbuild\bbs-3.13-bioc\R\bin\R.exe CMD INSTALL --merge-multiarch --build --library=cycle.buildbin-libdir cycle_1.46.0.tar.gz StartedAt: 2021-10-15 08:49:35 -0400 (Fri, 15 Oct 2021) EndedAt: 2021-10-15 08:50:57 -0400 (Fri, 15 Oct 2021) EllapsedTime: 82.0 seconds RetCode: 0 Status: OK PackageFile: cycle_1.46.0.zip PackageFileSize: 197.8 KiB