Package: contiBAIT Version: 1.20.0 Command: C:\Users\biocbuild\bbs-3.13-bioc\R\bin\R.exe CMD check --force-multiarch --install=check:contiBAIT.install-out.txt --library=C:\Users\biocbuild\bbs-3.13-bioc\R\library --no-vignettes --timings contiBAIT_1.20.0.tar.gz StartedAt: 2021-10-14 21:33:48 -0400 (Thu, 14 Oct 2021) EndedAt: 2021-10-14 21:41:01 -0400 (Thu, 14 Oct 2021) EllapsedTime: 433.3 seconds RetCode: 0 Status: WARNINGS CheckDir: contiBAIT.Rcheck Warnings: 2