Package: conclus Version: 1.0.0 Command: /Library/Frameworks/R.framework/Versions/Current/Resources/bin/R CMD check --install=check:conclus.install-out.txt --library=/Library/Frameworks/R.framework/Versions/Current/Resources/library --no-vignettes --timings conclus_1.0.0.tar.gz StartedAt: 2021-10-14 17:43:24 -0400 (Thu, 14 Oct 2021) EndedAt: 2021-10-14 17:54:44 -0400 (Thu, 14 Oct 2021) EllapsedTime: 680.1 seconds RetCode: 0 Status: OK CheckDir: conclus.Rcheck Warnings: 0