Package: conclus Version: 1.0.0 Command: /Library/Frameworks/R.framework/Versions/Current/Resources/bin/R CMD build --keep-empty-dirs --no-resave-data conclus StartedAt: 2021-10-14 11:24:53 -0400 (Thu, 14 Oct 2021) EndedAt: 2021-10-14 11:35:50 -0400 (Thu, 14 Oct 2021) EllapsedTime: 657.4 seconds RetCode: 0 Status: OK PackageFile: conclus_1.0.0.tar.gz PackageFileSize: 2.609 MiB