Package: coMET Version: 1.24.0 Command: rm -rf coMET.buildbin-libdir && mkdir coMET.buildbin-libdir && C:\Users\biocbuild\bbs-3.13-bioc\R\bin\R.exe CMD INSTALL --merge-multiarch --build --library=coMET.buildbin-libdir coMET_1.24.0.tar.gz StartedAt: 2021-10-15 08:41:32 -0400 (Fri, 15 Oct 2021) EndedAt: 2021-10-15 08:42:58 -0400 (Fri, 15 Oct 2021) EllapsedTime: 85.7 seconds RetCode: 0 Status: OK PackageFile: coMET_1.24.0.zip PackageFileSize: 17.24 MiB