Package: clustComp Version: 1.20.0 Command: C:\Users\biocbuild\bbs-3.13-bioc\R\bin\R.exe CMD check --force-multiarch --install=check:clustComp.install-out.txt --library=C:\Users\biocbuild\bbs-3.13-bioc\R\library --no-vignettes --timings clustComp_1.20.0.tar.gz StartedAt: 2021-10-14 21:12:40 -0400 (Thu, 14 Oct 2021) EndedAt: 2021-10-14 21:13:25 -0400 (Thu, 14 Oct 2021) EllapsedTime: 44.7 seconds RetCode: 0 Status: OK CheckDir: clustComp.Rcheck Warnings: 0