Package: clst Version: 1.40.0 Command: chmod a+r clst -R && C:\Users\biocbuild\bbs-3.13-bioc\R\bin\R.exe CMD build --keep-empty-dirs --no-resave-data clst StartedAt: 2021-10-14 12:51:38 -0400 (Thu, 14 Oct 2021) EndedAt: 2021-10-14 12:52:03 -0400 (Thu, 14 Oct 2021) EllapsedTime: 25.5 seconds RetCode: 0 Status: OK PackageFile: clst_1.40.0.tar.gz PackageFileSize: 977.7 KiB