Package: clst Version: 1.40.0 Command: rm -rf clst.buildbin-libdir && mkdir clst.buildbin-libdir && C:\Users\biocbuild\bbs-3.13-bioc\R\bin\R.exe CMD INSTALL --merge-multiarch --build --library=clst.buildbin-libdir clst_1.40.0.tar.gz StartedAt: 2021-10-15 08:36:07 -0400 (Fri, 15 Oct 2021) EndedAt: 2021-10-15 08:37:31 -0400 (Fri, 15 Oct 2021) EllapsedTime: 83.8 seconds RetCode: 0 Status: OK PackageFile: clst_1.40.0.zip PackageFileSize: 1.618 MiB