Package: chromswitch Version: 1.14.0 Command: rm -rf chromswitch.buildbin-libdir && mkdir chromswitch.buildbin-libdir && C:\Users\biocbuild\bbs-3.13-bioc\R\bin\R.exe CMD INSTALL --merge-multiarch --build --library=chromswitch.buildbin-libdir chromswitch_1.14.0.tar.gz StartedAt: 2021-10-15 08:33:38 -0400 (Fri, 15 Oct 2021) EndedAt: 2021-10-15 08:34:51 -0400 (Fri, 15 Oct 2021) EllapsedTime: 73.2 seconds RetCode: 0 Status: OK PackageFile: chromswitch_1.14.0.zip PackageFileSize: 1.465 MiB