git_url: https://git.bioconductor.org/packages/casper git_branch: RELEASE_3_13 git_last_commit: 3de669e git_last_commit_date: 2021-05-19 11:57:16 -0400 (Wed, 19 May 2021) Package: casper Version: 2.26.0 Maintainer: David Rossell MaintainerEmail: rosselldavid at gmail.com