Package: bnbc Version: 1.14.0 Command: /home/biocbuild/bbs-3.13-bioc/R/bin/R CMD build --keep-empty-dirs --no-resave-data bnbc StartedAt: 2021-10-14 06:49:40 -0400 (Thu, 14 Oct 2021) EndedAt: 2021-10-14 06:50:57 -0400 (Thu, 14 Oct 2021) EllapsedTime: 76.5 seconds RetCode: 0 Status: OK PackageFile: bnbc_1.14.0.tar.gz PackageFileSize: 2.684 MiB