Package: bioDist Version: 1.64.0 Command: /home/biocbuild/bbs-3.13-bioc/R/bin/R CMD check --install=check:bioDist.install-out.txt --library=/home/biocbuild/bbs-3.13-bioc/R/library --no-vignettes --timings bioDist_1.64.0.tar.gz StartedAt: 2021-10-14 09:02:40 -0400 (Thu, 14 Oct 2021) EndedAt: 2021-10-14 09:03:04 -0400 (Thu, 14 Oct 2021) EllapsedTime: 23.6 seconds RetCode: 0 Status: OK CheckDir: bioDist.Rcheck Warnings: 0